BEGIN:VCALENDAR
VERSION:2.0
PRODID:-//National Dance Society - ECPv6.15.20//NONSGML v1.0//EN
CALSCALE:GREGORIAN
METHOD:PUBLISH
X-ORIGINAL-URL:https://nationaldancesociety.org
X-WR-CALDESC:Events for National Dance Society
REFRESH-INTERVAL;VALUE=DURATION:PT1H
X-Robots-Tag:noindex
X-PUBLISHED-TTL:PT1H
BEGIN:VTIMEZONE
TZID:America/New_York
BEGIN:DAYLIGHT
TZOFFSETFROM:-0500
TZOFFSETTO:-0400
TZNAME:EDT
DTSTART:20220313T070000
END:DAYLIGHT
BEGIN:STANDARD
TZOFFSETFROM:-0400
TZOFFSETTO:-0500
TZNAME:EST
DTSTART:20221106T060000
END:STANDARD
BEGIN:DAYLIGHT
TZOFFSETFROM:-0500
TZOFFSETTO:-0400
TZNAME:EDT
DTSTART:20230312T070000
END:DAYLIGHT
BEGIN:STANDARD
TZOFFSETFROM:-0400
TZOFFSETTO:-0500
TZNAME:EST
DTSTART:20231105T060000
END:STANDARD
BEGIN:DAYLIGHT
TZOFFSETFROM:-0500
TZOFFSETTO:-0400
TZNAME:EDT
DTSTART:20240310T070000
END:DAYLIGHT
BEGIN:STANDARD
TZOFFSETFROM:-0400
TZOFFSETTO:-0500
TZNAME:EST
DTSTART:20241103T060000
END:STANDARD
END:VTIMEZONE
BEGIN:VEVENT
DTSTART;VALUE=DATE:20230715
DTEND;VALUE=DATE:20230717
DTSTAMP:20260423T062303
CREATED:20221116T225907Z
LAST-MODIFIED:20230602T162605Z
UID:577-1689462000-1689548399@nationaldancesociety.org
SUMMARY:Virtual All Member Meeting (VAMM)
DESCRIPTION:16 July 2023. 8 pm ET\nCandidates for Office 2023-2024.\n  \n  \n 
URL:https://nationaldancesociety.org/event/nds-all-member-meeting/
CATEGORIES:Online
ATTACH;FMTTYPE=image/jpeg:https://nationaldancesociety.org/wp-content/uploads/2023/05/Vote.jpg
END:VEVENT
END:VCALENDAR